BEGIN:VCALENDAR
VERSION:2.0
PRODID:-//ChamberMaster//Event Calendar 2.0//EN
METHOD:PUBLISH
X-PUBLISHED-TTL:P3D
REFRESH-INTERVAL:P3D
CALSCALE:GREGORIAN
BEGIN:VEVENT
DTSTART:20190426T130000Z
DTEND:20190630T200000Z
X-MICROSOFT-CDO-ALLDAYEVENT:FALSE
SUMMARY:Art Exhibit\, Visual Echoes of Nature
DESCRIPTION:On display at the BFEC Resource Center from April 20 through June 30. Local artist and scientist\, Marty Huehner\, creates compelling ceramic pieces using imprints of natural objects. After he transfers the natural image to clay\, he glazes\, fires\, and mounts the pieces. His work is infused with a reverence for the universe and its local manifestations and processes. Any time the resource center is open\, you are invited to enjoy this exhibit by local artist Marty Huehner.
X-ALT-DESC;FMTTYPE=text/html:On display at the BFEC Resource Center from April 20 through June 30. Local artist and scientist\, Marty Huehner\, creates compelling ceramic pieces using imprints of natural objects. After he transfers the natural image to clay\, he glazes\, fires\, and mounts the pieces. His work is infused with a reverence for the universe and its local manifestations and processes. Any time the resource center is open\, you are invited to enjoy this exhibit by local artist Marty Huehner.
LOCATION:Brown Family Environmental Center
UID:e.2893.4294
SEQUENCE:3
DTSTAMP:20260421T103823Z
URL:http://knoxchamber.smartcms.site/events/details/art-exhibit-visual-echoes-of-nature-4294
END:VEVENT

END:VCALENDAR
