BEGIN:VCALENDAR
VERSION:2.0
PRODID:-//ChamberMaster//Event Calendar 2.0//EN
METHOD:PUBLISH
X-PUBLISHED-TTL:P3D
REFRESH-INTERVAL:P3D
CALSCALE:GREGORIAN
BEGIN:VEVENT
DTSTART;VALUE=DATE:20180331
DTEND;VALUE=DATE:20180608
TRANSP:TRANSPARENT
X-MICROSOFT-CDO-ALLDAYEVENT:TRUE
SUMMARY:Art Exhibit
DESCRIPTION:On display at the BFEC Resource Center from March 31 through June 7. Any time the resource center is open\, you are invited to enjoy this exhibit by local artists Todd Celmar and Virginia Birchfield.
X-ALT-DESC;FMTTYPE=text/html:On display at the BFEC Resource Center from March 31 through June 7. Any time the resource center is open\, you are invited to enjoy this exhibit by local artists Todd Celmar and Virginia Birchfield.
LOCATION:Brown Family Environmental Center
UID:e.2893.2625
SEQUENCE:3
DTSTAMP:20260422T074206Z
URL:http://knoxchamber.smartcms.site/events/details/art-exhibit-2625
END:VEVENT

END:VCALENDAR
