BEGIN:VCALENDAR
VERSION:2.0
PRODID:-//ChamberMaster//Event Calendar 2.0//EN
METHOD:PUBLISH
X-PUBLISHED-TTL:P3D
REFRESH-INTERVAL:P3D
CALSCALE:GREGORIAN
BEGIN:VEVENT
DTSTART:20200530T150000Z
DTEND:20200530T170000Z
X-MICROSOFT-CDO-ALLDAYEVENT:FALSE
SUMMARY:Annual Rabies Clinic
DESCRIPTION:KCHS-CATS is holding their annual RABIES clinic. Saturday May 30\,2020 at 11-1 at 400 Columbus Road. \n\nRabie vaccines are $5 each. IF you are wanting a 3 year rabies vaccine for your pet you MUST bring in the current rabies certificate showing that a three year rabies is due. A rabies tag will not do. Because of our current health situation we will be asking you to stay in your cars and volunteers will give you a number and paperwork for you to fill out ahead of time. Please be patient as you wait your turn.  \n\nCats must be in carriers. Dogs must be on regular leashes.
X-ALT-DESC;FMTTYPE=text/html:KCHS-CATS is holding their annual RABIES clinic. Saturday May 30\,2020 at 11-1 at 400 Columbus Road.&nbsp\;<br />\nRabie vaccines are $5 each. IF you are wanting a 3 year rabies vaccine for your pet you MUST bring in the current rabies certificate showing that a three year rabies is due. A rabies tag will not do. Because of our current health situation we will be asking you to stay in your cars and volunteers will give you a number and paperwork for you to fill out ahead of time. Please be patient as you wait your turn.&nbsp\;&nbsp\;<br />\nCats must be in carriers. Dogs must be on regular leashes.&nbsp\;
LOCATION:400 Columbus Road Mount Vernon Ohio 43050
UID:e.2893.4759
SEQUENCE:3
DTSTAMP:20260420T165003Z
URL:http://knoxchamber.smartcms.site/events/details/annual-rabies-clinic-4759
END:VEVENT

END:VCALENDAR
