BEGIN:VCALENDAR
VERSION:2.0
PRODID:-//ChamberMaster//Event Calendar 2.0//EN
METHOD:PUBLISH
X-PUBLISHED-TTL:P3D
REFRESH-INTERVAL:P3D
CALSCALE:GREGORIAN
BEGIN:VEVENT
DTSTART:20180503T230000Z
DTEND:20180504T003000Z
X-MICROSOFT-CDO-ALLDAYEVENT:FALSE
SUMMARY:Annual National Day of Prayer
DESCRIPTION:WNZR and the Knox Network of Christian Ministries invite you to Mount Vernon's National Day of Prayer celebration on Thursday\, May 3rd. The service will be in a NEW location this year. Join us in Foster Hall\, located inside Ariel Arena on the campus of Mount Vernon Nazarene University. Join us for a time of prayer and praise. The Race Ministries Band will provide music for the event. Local pastors will pray for our community\, our local\, state and national government\, and our families. If you can't join us\, listen to the service LIVE on 90.9FM\, WNZR. Put it in your calendar   Thursday\, May 3rd at 7pm. Everyone is invited. Our theme this year is Unity! Taken from Ephesians 4:3\, which says\, "Make every effort to keep the unity of the Spirit through the bond of peace".
X-ALT-DESC;FMTTYPE=text/html:WNZR and the Knox Network of Christian Ministries invite you to Mount Vernon&rsquo\;s National Day of Prayer celebration on Thursday\, May 3rd. The service will be in a NEW location this year. Join us in Foster Hall\, located inside Ariel Arena on the campus of Mount Vernon Nazarene University. Join us for a time of prayer and praise. The Race Ministries Band will provide music for the event. Local pastors will pray for our community\, our local\, state and national government\, and our families. If you can&rsquo\;t join us\, listen to the service LIVE on 90.9FM\, WNZR. Put it in your calendar &ndash\; Thursday\, May 3rd at 7pm. Everyone is invited. Our theme this year is&nbsp\;Unity!&nbsp\;Taken from Ephesians 4:3\, which says\, &ldquo\;Make every effort to keep the unity of the Spirit through the bond of peace&rdquo\;.
LOCATION:Mount Vernon Nazarene University's Foster Hall at Ariel Arena 800 Martinsburg Road Mount Vernon\, OH 43050
UID:e.2893.3630
SEQUENCE:3
DTSTAMP:20260422T092701Z
URL:http://knoxchamber.smartcms.site/events/details/annual-national-day-of-prayer-3630
END:VEVENT

END:VCALENDAR
