BEGIN:VCALENDAR
VERSION:2.0
PRODID:-//ChamberMaster//Event Calendar 2.0//EN
METHOD:PUBLISH
X-PUBLISHED-TTL:P3D
REFRESH-INTERVAL:P3D
CALSCALE:GREGORIAN
BEGIN:VEVENT
DTSTART;VALUE=DATE:20170714
DTEND;VALUE=DATE:20170715
TRANSP:TRANSPARENT
X-MICROSOFT-CDO-ALLDAYEVENT:TRUE
SUMMARY:Annual Golf Classic
DESCRIPTION:Summer is a time for enjoying the great weather\, and the Foundation's Annual Golf Classic is the perfect opportunity for the business community to come together for some fun in the sun. The event includes 18 holes of golf\, great food\, prizes\, and of course lots of fun. Join the Foundation for a relaxing day on the Mount Vernon Country Club's world-class course and at one of the largest networking opportunities of the year. As always\, there are a number of great sponsorships available\, at a wide range of prices to fit your budget. Please contact Lori Wilkes at (740)393.9602 for more information\, or to confirm your sponsorship at this year's tournament.
X-ALT-DESC;FMTTYPE=text/html:Summer is a time for enjoying the great weather\, and the Foundation&rsquo\;s Annual Golf Classic is the perfect opportunity for the business community to come together for some fun in the sun. The event includes 18 holes of golf\, great food\, prizes\, and of course lots of fun. Join the Foundation for a relaxing day on the Mount Vernon Country Club&rsquo\;s world-class course and at one of the largest networking opportunities of the year. As always\, there are a number of great sponsorships available\, at a wide range of prices to fit your budget. Please contact Lori Wilkes at (740)393.9602 for more information\, or to confirm your sponsorship at this year&rsquo\;s tournament.
LOCATION:Mount Vernon Country Club
UID:e.2893.1392
SEQUENCE:3
DTSTAMP:20260423T060853Z
URL:http://knoxchamber.smartcms.site/events/details/annual-golf-classic-1392
END:VEVENT

END:VCALENDAR
