BEGIN:VCALENDAR
VERSION:2.0
PRODID:-//ChamberMaster//Event Calendar 2.0//EN
METHOD:PUBLISH
X-PUBLISHED-TTL:P3D
REFRESH-INTERVAL:P3D
CALSCALE:GREGORIAN
BEGIN:VEVENT
DTSTART:20200111T020000Z
DTEND:20200111T050000Z
X-MICROSOFT-CDO-ALLDAYEVENT:FALSE
SUMMARY:Annual Dinner After Party
DESCRIPTION:Immediately following the biggest night of the year for the Knox County Chamber of Commerce\, head to one of two locations in Gambier to keep the party going!\n\n\n\nBoth The Village Inn and The Kenyon Inn and Restaurant will stay open to host the After Party. \n\n\n\nPlease remember to drive safe!
X-ALT-DESC;FMTTYPE=text/html:Immediately following the biggest night of the year for the Knox County Chamber of Commerce\, head to one of two locations in Gambier to keep the party going!<br />\n<br />\nBoth The Village Inn and The Kenyon Inn and Restaurant will stay open to host the After Party.&nbsp\;<br />\n<br />\nPlease remember to drive safe!
LOCATION:The Kenyon Inn and Restaurant The Village Inn 100 West Wiggins Streeet\, Gambier 102 Gaskin Avenue\, Gambier
UID:e.2893.4707
SEQUENCE:3
DTSTAMP:20260421T004314Z
URL:http://knoxchamber.smartcms.site/events/details/annual-dinner-after-party-4707
END:VEVENT

END:VCALENDAR
