BEGIN:VCALENDAR
VERSION:2.0
PRODID:-//ChamberMaster//Event Calendar 2.0//EN
METHOD:PUBLISH
X-PUBLISHED-TTL:P3D
REFRESH-INTERVAL:P3D
CALSCALE:GREGORIAN
BEGIN:VEVENT
DTSTART:20171216T170000Z
DTEND:20171216T180000Z
X-MICROSOFT-CDO-ALLDAYEVENT:FALSE
SUMMARY:Animals Light up our Lives
DESCRIPTION:Knox County Humane Society's annual Animals Light up our Lives. Blessing of animals and tree lighting ceremony. Lights can be purchased at the KCHS 740-392-2287.
X-ALT-DESC;FMTTYPE=text/html:Knox County Humane Society&#39\;s annual Animals Light up our Lives. Blessing of animals and tree lighting ceremony. Lights can be purchased at the KCHS 740-392-2287.
LOCATION:Knox County Humane Society 400 Columbus Rd Mount Vernon\, OH
UID:e.2893.2527
SEQUENCE:3
DTSTAMP:20260422T191616Z
URL:http://knoxchamber.smartcms.site/events/details/animals-light-up-our-lives-2527
END:VEVENT

END:VCALENDAR
