BEGIN:VCALENDAR
VERSION:2.0
PRODID:-//ChamberMaster//Event Calendar 2.0//EN
METHOD:PUBLISH
X-PUBLISHED-TTL:P3D
REFRESH-INTERVAL:P3D
CALSCALE:GREGORIAN
BEGIN:VEVENT
DTSTART:20170410T200000Z
DTEND:20170410T220000Z
X-MICROSOFT-CDO-ALLDAYEVENT:FALSE
SUMMARY:An Exploration of Forest Preschools in the U.S.
DESCRIPTION:
X-ALT-DESC;FMTTYPE=text/html:
LOCATION:
UID:e.2893.1332
SEQUENCE:3
DTSTAMP:20260423T094002Z
URL:http://knoxchamber.smartcms.site/events/details/an-exploration-of-forest-preschools-in-the-u-s-1332
END:VEVENT

END:VCALENDAR
