BEGIN:VCALENDAR
VERSION:2.0
PRODID:-//ChamberMaster//Event Calendar 2.0//EN
METHOD:PUBLISH
X-PUBLISHED-TTL:P3D
REFRESH-INTERVAL:P3D
CALSCALE:GREGORIAN
BEGIN:VEVENT
DTSTART:20181020T223000Z
DTEND:20181021T013000Z
X-MICROSOFT-CDO-ALLDAYEVENT:FALSE
SUMMARY:An Evening with Greg Greyson
DESCRIPTION:Indian Bear's rustic wood beam & stone fireplace tasting room is the perfect setting for the mellow rock of Greg Greyson. He's played Chicago to Nashville and is coming to the Bear to play just for you!
X-ALT-DESC;FMTTYPE=text/html:<span style="color:#800000\;"><em>Indian Bear&#39\;s</em></span> rustic wood beam &amp\; stone fireplace tasting room is the perfect setting for the mellow rock of Greg Greyson. He&#39\;s played Chicago to Nashville and is coming to the Bear to play just for you!
LOCATION:Indian Bear Winery 3483 McCament Rd\, Walhonding Oh
UID:e.2893.3825
SEQUENCE:3
DTSTAMP:20260422T010640Z
URL:http://knoxchamber.smartcms.site/events/details/an-evening-with-greg-greyson-3825
END:VEVENT

END:VCALENDAR
