BEGIN:VCALENDAR
VERSION:2.0
PRODID:-//ChamberMaster//Event Calendar 2.0//EN
METHOD:PUBLISH
X-PUBLISHED-TTL:P3D
REFRESH-INTERVAL:P3D
CALSCALE:GREGORIAN
BEGIN:VEVENT
DTSTART:20170329T150000Z
DTEND:20170329T210000Z
X-MICROSOFT-CDO-ALLDAYEVENT:FALSE
SUMMARY:American Red Cross Blood Drive
DESCRIPTION:American Red Cross Blood Drive\n\nKenyon College (Gund Commons) \n\n11:00am to 5:00pm
X-ALT-DESC;FMTTYPE=text/html:American Red Cross Blood Drive<br />\nKenyon College (Gund Commons)&nbsp\;<br />\n11:00am to 5:00pm
LOCATION:
UID:e.2893.1306
SEQUENCE:3
DTSTAMP:20260423T112616Z
URL:http://knoxchamber.smartcms.site/events/details/american-red-cross-blood-drive-1306
END:VEVENT

END:VCALENDAR
