BEGIN:VCALENDAR
VERSION:2.0
PRODID:-//ChamberMaster//Event Calendar 2.0//EN
METHOD:PUBLISH
X-PUBLISHED-TTL:P3D
REFRESH-INTERVAL:P3D
CALSCALE:GREGORIAN
BEGIN:VEVENT
DTSTART:20170328T150000Z
DTEND:20170328T200000Z
X-MICROSOFT-CDO-ALLDAYEVENT:FALSE
SUMMARY:American Red Cross Blood Drive
DESCRIPTION:American Red Cross Blood Drive\n\nMount Vernon City Police \n\n11:00am to 4:00pm
X-ALT-DESC;FMTTYPE=text/html:American Red Cross Blood Drive<br />\nMount Vernon City Police&nbsp\;<br />\n11:00am to 4:00pm
LOCATION:
UID:e.2893.1305
SEQUENCE:3
DTSTAMP:20260423T112700Z
URL:http://knoxchamber.smartcms.site/events/details/american-red-cross-blood-drive-1305
END:VEVENT

END:VCALENDAR
