BEGIN:VCALENDAR
VERSION:2.0
PRODID:-//ChamberMaster//Event Calendar 2.0//EN
METHOD:PUBLISH
X-PUBLISHED-TTL:P3D
REFRESH-INTERVAL:P3D
CALSCALE:GREGORIAN
BEGIN:VEVENT
DTSTART:20170323T180000Z
DTEND:20170323T230000Z
X-MICROSOFT-CDO-ALLDAYEVENT:FALSE
SUMMARY:American Red Cross Blood Drive
DESCRIPTION:American Red Cross Blood Drive\n\nCovenant Christian Church\n\n13360 New Delaware Road\, Mount Vernon\n\n2:00pm to 7:00pm
X-ALT-DESC;FMTTYPE=text/html:American Red Cross Blood Drive<br />\nCovenant Christian Church<br />\n13360 New Delaware Road\, Mount Vernon<br />\n2:00pm to 7:00pm
LOCATION:
UID:e.2893.1303
SEQUENCE:3
DTSTAMP:20260423T112700Z
URL:http://knoxchamber.smartcms.site/events/details/american-red-cross-blood-drive-1303
END:VEVENT

END:VCALENDAR
