BEGIN:VCALENDAR
VERSION:2.0
PRODID:-//ChamberMaster//Event Calendar 2.0//EN
METHOD:PUBLISH
X-PUBLISHED-TTL:P3D
REFRESH-INTERVAL:P3D
CALSCALE:GREGORIAN
BEGIN:VEVENT
DTSTART:20170322T180000Z
DTEND:20170322T230000Z
X-MICROSOFT-CDO-ALLDAYEVENT:FALSE
SUMMARY:American Red Cross Blood Drive
DESCRIPTION:American Red Cross Blood Drive\n\nThe Ohio Eastern Star Home\n\n2:00pm to 7:00pm
X-ALT-DESC;FMTTYPE=text/html:American Red Cross Blood Drive<br />\nThe Ohio Eastern Star Home<br />\n2:00pm to 7:00pm
LOCATION:
UID:e.2893.1302
SEQUENCE:3
DTSTAMP:20260423T112616Z
URL:http://knoxchamber.smartcms.site/events/details/american-red-cross-blood-drive-1302
END:VEVENT

END:VCALENDAR
