BEGIN:VCALENDAR
VERSION:2.0
PRODID:-//ChamberMaster//Event Calendar 2.0//EN
METHOD:PUBLISH
X-PUBLISHED-TTL:P3D
REFRESH-INTERVAL:P3D
CALSCALE:GREGORIAN
BEGIN:VEVENT
DTSTART:20170321T170000Z
DTEND:20170321T223000Z
X-MICROSOFT-CDO-ALLDAYEVENT:FALSE
SUMMARY:American Red Cross Blood Drive
DESCRIPTION:American Red Cross Blood Drive\n\nGay Street United Methodist Church\n\n1:00pm to 6:00pm
X-ALT-DESC;FMTTYPE=text/html:American Red Cross Blood Drive<br />\nGay Street United Methodist Church<br />\n1:00pm to 6:00pm&nbsp\;
LOCATION:
UID:e.2893.1301
SEQUENCE:3
DTSTAMP:20260423T112658Z
URL:http://knoxchamber.smartcms.site/events/details/american-red-cross-blood-drive-1301
END:VEVENT

END:VCALENDAR
