BEGIN:VCALENDAR
VERSION:2.0
PRODID:-//ChamberMaster//Event Calendar 2.0//EN
METHOD:PUBLISH
X-PUBLISHED-TTL:P3D
REFRESH-INTERVAL:P3D
CALSCALE:GREGORIAN
BEGIN:VEVENT
DTSTART:20170316T170000Z
DTEND:20170316T223000Z
X-MICROSOFT-CDO-ALLDAYEVENT:FALSE
SUMMARY:American Red Cross Blood Drive
DESCRIPTION:American Red Cross Blood Drive\n\nFirst Presbyterian Church 17 S Main Street\, Fredericktown\n\n1:00pm to 6:30pm
X-ALT-DESC;FMTTYPE=text/html:American Red Cross Blood Drive<br />\nFirst Presbyterian Church 17 S Main Street\, Fredericktown<br />\n1:00pm to 6:30pm
LOCATION:
UID:e.2893.1299
SEQUENCE:3
DTSTAMP:20260423T112535Z
URL:http://knoxchamber.smartcms.site/events/details/american-red-cross-blood-drive-1299
END:VEVENT

END:VCALENDAR
