BEGIN:VCALENDAR
VERSION:2.0
PRODID:-//ChamberMaster//Event Calendar 2.0//EN
METHOD:PUBLISH
X-PUBLISHED-TTL:P3D
REFRESH-INTERVAL:P3D
CALSCALE:GREGORIAN
BEGIN:VEVENT
DTSTART:20200831T160000Z
DTEND:20200831T220000Z
X-MICROSOFT-CDO-ALLDAYEVENT:FALSE
SUMMARY:American Red Cross Blood Drive
DESCRIPTION:Please donate blood at The Mount Vernon Grand Hotel\, 12 Public Square\, Mount Vernon\, 12 to 6 pm\, Monday\, August 31\, 2020. There is an urgent need for blood. Becky Glass\, becky.glass@redcross.org\, 800-733-2767.
X-ALT-DESC;FMTTYPE=text/html:Please donate blood at The Mount Vernon Grand Hotel\, 12 Public Square\, Mount Vernon\, 12 to 6 pm\, Monday\, August 31\, 2020. There is an urgent need for blood. Becky Glass\, becky.glass@redcross.org\, 800-733-2767.
LOCATION:Mount Vernon Grand Hotel
UID:e.2893.4790
SEQUENCE:3
DTSTAMP:20260420T124526Z
URL:http://knoxchamber.smartcms.site/events/details/american-red-cross-blood-drive-08-31-2020-4790
END:VEVENT

END:VCALENDAR
