BEGIN:VCALENDAR
VERSION:2.0
PRODID:-//ChamberMaster//Event Calendar 2.0//EN
METHOD:PUBLISH
X-PUBLISHED-TTL:P3D
REFRESH-INTERVAL:P3D
CALSCALE:GREGORIAN
BEGIN:VEVENT
DTSTART:20200827T160000Z
DTEND:20200827T220000Z
X-MICROSOFT-CDO-ALLDAYEVENT:FALSE
SUMMARY:American Red Cross Blood Drive
DESCRIPTION:Please donate blood at The Public Library of Mount Vernon & Knox County\, 201 North Mulberry Street\, Mount Vernon\, 12 to 6 pm\, Thursday\, August 27\, 2020. There is an urgent need for blood. Becky Glass\, becky.glass@redcross.org\, 800-733-2767.
X-ALT-DESC;FMTTYPE=text/html:Please donate blood at The Public Library of Mount Vernon &amp\; Knox County\, 201 North Mulberry Street\, Mount Vernon\, 12 to 6 pm\, Thursday\, August 27\, 2020. There is an urgent need for blood. Becky Glass\, becky.glass@redcross.org\, 800-733-2767.
LOCATION:Public Library of Mount Vernon & Knox County
UID:e.2893.4788
SEQUENCE:3
DTSTAMP:20260420T140239Z
URL:http://knoxchamber.smartcms.site/events/details/american-red-cross-blood-drive-08-27-2020-4788
END:VEVENT

END:VCALENDAR
