BEGIN:VCALENDAR
VERSION:2.0
PRODID:-//ChamberMaster//Event Calendar 2.0//EN
METHOD:PUBLISH
X-PUBLISHED-TTL:P3D
REFRESH-INTERVAL:P3D
CALSCALE:GREGORIAN
BEGIN:VEVENT
DTSTART:20200824T180000Z
DTEND:20200824T233000Z
X-MICROSOFT-CDO-ALLDAYEVENT:FALSE
SUMMARY:American Red Cross Blood Drive
DESCRIPTION:Please donate blood at The Community Christian Fellowship\, 23436 New Castle Road\, Gambier\, 2 to 7:30 pm\, Monday\, August 24\, 2020. There is an urgent need for blood. Becky Glass\, becky.glass@redcross.org\, 800-733-2767.
X-ALT-DESC;FMTTYPE=text/html:Please donate blood at The Community Christian Fellowship\, 23436 New Castle Road\, Gambier\, 2 to 7:30 pm\, Monday\, August 24\, 2020. There is an urgent need for blood. Becky Glass\, becky.glass@redcross.org\, 800-733-2767.
LOCATION:Community Christin Fellowship
UID:e.2893.4786
SEQUENCE:3
DTSTAMP:20260420T140240Z
URL:http://knoxchamber.smartcms.site/events/details/american-red-cross-blood-drive-08-24-2020-4786
END:VEVENT

END:VCALENDAR
