BEGIN:VCALENDAR
VERSION:2.0
PRODID:-//ChamberMaster//Event Calendar 2.0//EN
METHOD:PUBLISH
X-PUBLISHED-TTL:P3D
REFRESH-INTERVAL:P3D
CALSCALE:GREGORIAN
BEGIN:VEVENT
DTSTART:20200820T140000Z
DTEND:20200820T200000Z
X-MICROSOFT-CDO-ALLDAYEVENT:FALSE
SUMMARY:American Red Cross Blood Drive
DESCRIPTION:Please donate blood at the Moose Lodge\, 417 West High Street\, Mount Vernon\, 10 am to 4 pm\, Thursday\, August 20\, 2020. There is an urgent need for blood. Becky Glass\, becky.glass@redcross.org\, 800-733-2767.
X-ALT-DESC;FMTTYPE=text/html:Please donate blood at the Moose Lodge\, 417 West High Street\, Mount Vernon\, 10 am to 4 pm\, Thursday\, August 20\, 2020. There is an urgent need for blood. Becky Glass\, becky.glass@redcross.org\, 800-733-2767.
LOCATION:Moose Lodge
UID:e.2893.4784
SEQUENCE:3
DTSTAMP:20260420T140243Z
URL:http://knoxchamber.smartcms.site/events/details/american-red-cross-blood-drive-08-20-2020-4784
END:VEVENT

END:VCALENDAR
