BEGIN:VCALENDAR
VERSION:2.0
PRODID:-//ChamberMaster//Event Calendar 2.0//EN
METHOD:PUBLISH
X-PUBLISHED-TTL:P3D
REFRESH-INTERVAL:P3D
CALSCALE:GREGORIAN
BEGIN:VEVENT
DTSTART:20200818T170000Z
DTEND:20200818T230000Z
X-MICROSOFT-CDO-ALLDAYEVENT:FALSE
SUMMARY:American Red Cross Blood Drive
DESCRIPTION:Please donate blood at Centerburg High School\, Centerburg Church of Christ\, 3830 Columbus Road\, Centerburg\, 1 to 7 pm\, Tuesday\, August 18\, 2020. There is an urgent need for blood. Becky Glass\, becky.glass@redcross.org\, 800-733-2767
X-ALT-DESC;FMTTYPE=text/html:Please donate blood at Centerburg High School\, Centerburg Church of Christ\, 3830 Columbus Road\, Centerburg\, 1 to 7 pm\, Tuesday\, August 18\, 2020. There is an urgent need for blood. Becky Glass\, becky.glass@redcross.org\, 800-733-2767
LOCATION:Centerburg High School
UID:e.2893.4783
SEQUENCE:3
DTSTAMP:20260420T124439Z
URL:http://knoxchamber.smartcms.site/events/details/american-red-cross-blood-drive-08-18-2020-4783
END:VEVENT

END:VCALENDAR
