BEGIN:VCALENDAR
VERSION:2.0
PRODID:-//ChamberMaster//Event Calendar 2.0//EN
METHOD:PUBLISH
X-PUBLISHED-TTL:P3D
REFRESH-INTERVAL:P3D
CALSCALE:GREGORIAN
BEGIN:VEVENT
DTSTART:20200814T150000Z
DTEND:20200814T200000Z
X-MICROSOFT-CDO-ALLDAYEVENT:FALSE
SUMMARY:American Red Cross Blood Drive
DESCRIPTION:Please donate blood at E Merge Real Estate\, Memorial Building\, 112 East High Street\, Mount Vernon\, 11 am to 4 pm\, Friday\, August 14\, 2020. There is an urgent need for blood. Becky Glass\, becky.glass@redcross.org\, 800-733-2767.
X-ALT-DESC;FMTTYPE=text/html:Please donate blood at E Merge Real Estate\, Memorial Building\, 112 East High Street\, Mount Vernon\, 11 am to 4 pm\, Friday\, August 14\, 2020. There is an urgent need for blood. Becky Glass\, becky.glass@redcross.org\, 800-733-2767.
LOCATION:E Merge Real Estate
UID:e.2893.4781
SEQUENCE:3
DTSTAMP:20260420T124441Z
URL:http://knoxchamber.smartcms.site/events/details/american-red-cross-blood-drive-08-14-2020-4781
END:VEVENT

END:VCALENDAR
