BEGIN:VCALENDAR
VERSION:2.0
PRODID:-//ChamberMaster//Event Calendar 2.0//EN
METHOD:PUBLISH
X-PUBLISHED-TTL:P3D
REFRESH-INTERVAL:P3D
CALSCALE:GREGORIAN
BEGIN:VEVENT
DTSTART:20200813T160000Z
DTEND:20200813T220000Z
X-MICROSOFT-CDO-ALLDAYEVENT:FALSE
SUMMARY:American Red Cross Blood Drive
DESCRIPTION:Please donate blood at Apple Valley\, 850 Crestrose Drive\, Howard\, 12 to 6 pm\, Thursday\, August 13\, 2020. There is an urgent need for blood. Becky Glass\, becky.glass@redcross.org\, 800-733-2767.
X-ALT-DESC;FMTTYPE=text/html:Please donate blood at Apple Valley\, 850 Crestrose Drive\, Howard\, 12 to 6 pm\, Thursday\, August 13\, 2020. There is an urgent need for blood. Becky Glass\, becky.glass@redcross.org\, 800-733-2767.
LOCATION:Apple Valley
UID:e.2893.4780
SEQUENCE:3
DTSTAMP:20260420T124445Z
URL:http://knoxchamber.smartcms.site/events/details/american-red-cross-blood-drive-08-13-2020-4780
END:VEVENT

END:VCALENDAR
