BEGIN:VCALENDAR
VERSION:2.0
PRODID:-//ChamberMaster//Event Calendar 2.0//EN
METHOD:PUBLISH
X-PUBLISHED-TTL:P3D
REFRESH-INTERVAL:P3D
CALSCALE:GREGORIAN
BEGIN:VEVENT
DTSTART:20200812T150000Z
DTEND:20200812T210000Z
X-MICROSOFT-CDO-ALLDAYEVENT:FALSE
SUMMARY:American Red Cross Blood Drive
DESCRIPTION:Please donate blood at the Knox Community Hospital\, 1330 Coshocton Avenue\, Mount Vernon\, 11 am to 5 pm\, Wednesday\, August 12\, 2020. There is an urgent need for blood. Becky Glass\, becky.glass@redcross.org\, 800-733-2767.
X-ALT-DESC;FMTTYPE=text/html:Please donate blood at the Knox Community Hospital\, 1330 Coshocton Avenue\, Mount Vernon\, 11 am to 5 pm\, Wednesday\, August 12\, 2020. There is an urgent need for blood. Becky Glass\, becky.glass@redcross.org\, 800-733-2767.
LOCATION:Knox Community Hospital
UID:e.2893.4779
SEQUENCE:3
DTSTAMP:20260420T140240Z
URL:http://knoxchamber.smartcms.site/events/details/american-red-cross-blood-drive-08-12-2020-4779
END:VEVENT

END:VCALENDAR
