BEGIN:VCALENDAR
VERSION:2.0
PRODID:-//ChamberMaster//Event Calendar 2.0//EN
METHOD:PUBLISH
X-PUBLISHED-TTL:P3D
REFRESH-INTERVAL:P3D
CALSCALE:GREGORIAN
BEGIN:VEVENT
DTSTART:20210309T190000Z
DTEND:20210309T200000Z
X-MICROSOFT-CDO-ALLDAYEVENT:FALSE
SUMMARY:Ambassadors Annual Meeting
DESCRIPTION:If you are a Chamber Ambassador please join us for our Annual Virtual Meeting. Our Ambassador Chair\, Tonya Boucher\, has an exciting announcement.\n\n\n\nOnce registered\, you will be sent the Zoom link\n\n\n\nYou must register to receive the ZOOM link.\n\n      Register by March 8th before noon.
X-ALT-DESC;FMTTYPE=text/html:&nbsp\;If you are a Chamber Ambassador please join us for our Annual Virtual Meeting. Our Ambassador Chair\, Tonya Boucher\, has an exciting announcement.<br />\n<br />\nOnce registered\, you will be sent the Zoom link<br />\n<br />\n<span style="color:#FF0000\;"><strong>You must register to receive the ZOOM link.<br />\n&nbsp\; &nbsp\; &nbsp\; Register by March 8th before noon.</strong></span>
LOCATION:Zoom
UID:e.2893.4834
SEQUENCE:3
DTSTAMP:20260420T005046Z
URL:http://knoxchamber.smartcms.site/events/details/ambassadors-annual-meeting-4834
END:VEVENT

END:VCALENDAR
