BEGIN:VCALENDAR
VERSION:2.0
PRODID:-//ChamberMaster//Event Calendar 2.0//EN
METHOD:PUBLISH
X-PUBLISHED-TTL:P3D
REFRESH-INTERVAL:P3D
CALSCALE:GREGORIAN
BEGIN:VEVENT
DTSTART:20170805T160000Z
DTEND:20170805T160000Z
X-MICROSOFT-CDO-ALLDAYEVENT:FALSE
SUMMARY:Always a Bridesmaid - A Southern Comedy
DESCRIPTION:Always a Bridesmaid\n\nA Southern Comedy by Jessie Jones\, Nicholas Hope\, Jamie Wooten. Directed by Bruce Jacklin.\n\n\n\nA group of lifelong friends who swore to be there for each other.. no matter how many trips down the aisle.\n\n\n\nStarring:\n\nMaureen Browning\n\nPatti Goeppinger\n\nMary Spence\n\nRuth Frady\n\nMary Rugola Dye\n\nAbigail Miller\n\n\n\nDinner Options:\n\nVegetarian $35\n\nRoasted Chicken $40\n\nPrime Rib $45
X-ALT-DESC;FMTTYPE=text/html:<span style="font-size:18px\;"><span style="font-family:courier new\;"><strong>Always a Bridesmaid</strong></span></span><br />\nA Southern Comedy by Jessie Jones\, Nicholas Hope\, Jamie Wooten. Directed by Bruce Jacklin.<br />\n<br />\n<strong>A group of lifelong friends who swore to be there for each other.. no matter how many trips down the aisle.</strong><br />\n<br />\nStarring:<br />\nMaureen Browning<br />\nPatti Goeppinger<br />\nMary Spence<br />\nRuth Frady<br />\nMary Rugola Dye<br />\nAbigail Miller<br />\n<br />\nDinner Options:<br />\nVegetarian&nbsp\;$35<br />\nRoasted Chicken $40<br />\nPrime Rib $45
LOCATION:
UID:e.2893.1436
SEQUENCE:3
DTSTAMP:20260423T005235Z
URL:http://knoxchamber.smartcms.site/events/details/always-a-bridesmaid-a-southern-comedy-08-05-2017-1436
END:VEVENT

END:VCALENDAR
