BEGIN:VCALENDAR
VERSION:2.0
PRODID:-//ChamberMaster//Event Calendar 2.0//EN
METHOD:PUBLISH
X-PUBLISHED-TTL:P3D
REFRESH-INTERVAL:P3D
CALSCALE:GREGORIAN
BEGIN:VEVENT
DTSTART:20191007T230000Z
DTEND:20191008T000000Z
X-MICROSOFT-CDO-ALLDAYEVENT:FALSE
SUMMARY:All About Route 36
DESCRIPTION:A talk from author Allan Ferguson all about Route 36 which starts in Ohio and goes to Colorado - the book Route 36 - America's Heartland Highway will be on sale
X-ALT-DESC;FMTTYPE=text/html:A talk from author Allan Ferguson all about Route 36 which starts in Ohio and goes to Colorado - the book Route 36 - America&#39\;s Heartland Highway will be on sale
LOCATION:Paragraphs Bookstore
UID:e.2893.4471
SEQUENCE:3
DTSTAMP:20260421T035451Z
URL:http://knoxchamber.smartcms.site/events/details/all-about-route-36-4471
END:VEVENT

END:VCALENDAR
