BEGIN:VCALENDAR
VERSION:2.0
PRODID:-//ChamberMaster//Event Calendar 2.0//EN
METHOD:PUBLISH
X-PUBLISHED-TTL:P3D
REFRESH-INTERVAL:P3D
CALSCALE:GREGORIAN
BEGIN:VEVENT
DTSTART:20170913T153000Z
DTEND:20170913T170000Z
X-MICROSOFT-CDO-ALLDAYEVENT:FALSE
SUMMARY:Advance Planning Lunch & Learn
DESCRIPTION:Join Attorney Cynthia Cunningham and Funeral Director Samantha Hunnicut on September 13\, 2017 for a Lunch and Learn at Lasater Funeral Home. Ms. Cunningham and Ms. Hunnicut will discuss end of life planning that you should do now in order to protect your family in the future. See the image for more details and how to register for this event.
X-ALT-DESC;FMTTYPE=text/html:<span style="color: rgb(29\, 33\, 41)\; font-family: Helvetica\, Arial\, sans-serif\; font-size: 14px\;">Join Attorney Cynthia Cunningham and Funeral Director Samantha Hunnicut on September 13\, 2017 for a Lunch and Learn at&nbsp\;</span><a class="profileLink" data-hovercard="/ajax/hovercard/page.php?id=772310236247351&amp\;extragetparams=%7B%22fref%22%3A%22mentions%22%7D" data-hovercard-prefer-more-content-show="1" href="https://www.facebook.com/Lasater-Funeral-Home-772310236247351/?fref=mentions" style="color: rgb(54\, 88\, 153)\; cursor: pointer\; text-decoration-line: none\; font-family: Helvetica\, Arial\, sans-serif\; font-size: 14px\;">Lasater Funeral Home</a><span style="color: rgb(29\, 33\, 41)\; font-family: Helvetica\, Arial\, sans-serif\; font-size: 14px\;">. Ms. Cunningham and Ms. Hunnicut will discuss end of life planning that you should do now in order to protect your family in the future. See the image for more details and how to register for this event.</span>
LOCATION:Lasater Funeral Home 11337 Upper Gilchrist Road\, Mount Vernon 740-392-0005
UID:e.2893.1463
SEQUENCE:3
DTSTAMP:20260422T225618Z
URL:http://knoxchamber.smartcms.site/events/details/advance-planning-lunch-learn-1463
END:VEVENT

END:VCALENDAR
