BEGIN:VCALENDAR
VERSION:2.0
PRODID:-//ChamberMaster//Event Calendar 2.0//EN
METHOD:PUBLISH
X-PUBLISHED-TTL:P3D
REFRESH-INTERVAL:P3D
CALSCALE:GREGORIAN
BEGIN:VEVENT
DTSTART:20210401T170000Z
DTEND:20210401T210000Z
X-MICROSOFT-CDO-ALLDAYEVENT:FALSE
SUMMARY:ADAPT: Senior Graphic Design Exhibit
DESCRIPTION:Mount Vernon Nazarene University and the Art and Design department are proud to present\, Adapt\, the 2021 Senior Graphic Design portfolio exhibit. This exhibit will show case eight seniors who continued to create quality work while adjusting to the COVID-19 pandemic. The exhibit is free and open to the public.
X-ALT-DESC;FMTTYPE=text/html:Mount Vernon Nazarene University and the Art and Design department are proud to present\, <em>Adapt</em>\, the 2021 Senior Graphic Design portfolio exhibit. This exhibit will show case eight seniors who continued to create quality work while adjusting to the COVID-19 pandemic. The exhibit is free and open to the public.
LOCATION:Buchwald Center Schnormeier Gallery 221 South Main Street\, Mount Vernon\, OH 43050
UID:e.2893.4848
SEQUENCE:3
DTSTAMP:20260419T230110Z
URL:http://knoxchamber.smartcms.site/events/details/adapt-senior-graphic-design-exhibit-04-01-2021-4848
END:VEVENT

END:VCALENDAR
