BEGIN:VCALENDAR
VERSION:2.0
PRODID:-//ChamberMaster//Event Calendar 2.0//EN
METHOD:PUBLISH
X-PUBLISHED-TTL:P3D
REFRESH-INTERVAL:P3D
CALSCALE:GREGORIAN
BEGIN:VEVENT
DTSTART:20190112T190000Z
DTEND:20190112T210000Z
X-MICROSOFT-CDO-ALLDAYEVENT:FALSE
SUMMARY:A Photographic Journey through Ohio
DESCRIPTION:Meet at the BFEC Resource Center. Join award-winning photographer Brad Imhoff as he shares his nature photography from throughout our beautiful state. From the waterfalls of Cuyahoga Valley and Hocking Hills to the fox family he photographed right here in Knox County\, this 90-minute presentation will feature some of the best natural scenes Ohio and Knox County have to offer.
X-ALT-DESC;FMTTYPE=text/html:Meet at the BFEC Resource Center. Join award-winning photographer Brad Imhoff as he shares his nature photography from throughout our beautiful state. From the waterfalls of Cuyahoga Valley and Hocking Hills to the fox family he photographed right here in Knox County\, this 90-minute presentation will feature some of the best natural scenes Ohio and Knox County have to offer.
LOCATION:Brown Family Environmental Center 9871 Laymon Rd. Gambier\, OH 43022
UID:e.2893.3860
SEQUENCE:3
DTSTAMP:20260421T195607Z
URL:http://knoxchamber.smartcms.site/events/details/a-photographic-journey-through-ohio-3860
END:VEVENT

END:VCALENDAR
