BEGIN:VCALENDAR
VERSION:2.0
PRODID:-//ChamberMaster//Event Calendar 2.0//EN
METHOD:PUBLISH
X-PUBLISHED-TTL:P3D
REFRESH-INTERVAL:P3D
CALSCALE:GREGORIAN
BEGIN:VEVENT
DTSTART:20170810T153000Z
DTEND:20170810T170000Z
X-MICROSOFT-CDO-ALLDAYEVENT:FALSE
SUMMARY:A panel discussion on\; Customer Service vs. Customer Satisfaction
DESCRIPTION:August 10\, 2017 from 11:30am to 1:00pm\n\nEvent Space Columbus (23 Westerview Dr. Westerville\, Ohio 43081)\n\nCost: $25.00
X-ALT-DESC;FMTTYPE=text/html:August 10\, 2017 from 11:30am to 1:00pm<br />\nEvent Space Columbus (23 Westerview Dr. Westerville\, Ohio 43081)<br />\nCost: $25.00
LOCATION:
UID:e.2893.1395
SEQUENCE:3
DTSTAMP:20260423T004542Z
URL:http://knoxchamber.smartcms.site/events/details/a-panel-discussion-on-customer-service-vs-customer-satisfaction-1395
END:VEVENT

END:VCALENDAR
