BEGIN:VCALENDAR
VERSION:2.0
PRODID:-//ChamberMaster//Event Calendar 2.0//EN
METHOD:PUBLISH
X-PUBLISHED-TTL:P3D
REFRESH-INTERVAL:P3D
CALSCALE:GREGORIAN
BEGIN:VEVENT
DTSTART:20181009T230000Z
DTEND:20181010T010000Z
X-MICROSOFT-CDO-ALLDAYEVENT:FALSE
SUMMARY:A City Charter Commission for Mt Vernon
DESCRIPTION:Please join us as we host an evening of information and discussion about the upcoming City Charter Commission ballot issue. There will be discussion with two municipal governance experts\, members of city council\, and the general public. You will also have a chance to meet the charter commission candidates at a public reception. The Center for the Study of American Democracy and Kenyon College do not support or oppose any candidate or ballot measure.
X-ALT-DESC;FMTTYPE=text/html:Please join us as we host an evening of information and discussion about the upcoming City Charter Commission ballot issue. There will be discussion with two municipal governance experts\, members of city council\, and the general public. You will also have a chance to meet the charter commission candidates at a public reception. The Center for the Study of American Democracy and Kenyon College do not support or oppose any candidate or ballot measure.
LOCATION:Knox County Memorial Building
UID:e.2893.3821
SEQUENCE:3
DTSTAMP:20260422T024122Z
URL:http://knoxchamber.smartcms.site/events/details/a-city-charter-commission-for-mt-vernon-3821
END:VEVENT

END:VCALENDAR
