BEGIN:VCALENDAR
VERSION:2.0
PRODID:-//ChamberMaster//Event Calendar 2.0//EN
METHOD:PUBLISH
X-PUBLISHED-TTL:P3D
REFRESH-INTERVAL:P3D
CALSCALE:GREGORIAN
BEGIN:VEVENT
DTSTART:20190829T140000Z
DTEND:20190829T180000Z
X-MICROSOFT-CDO-ALLDAYEVENT:FALSE
SUMMARY:$99 Professional Head Shots: Ohio Corporate Photographer
DESCRIPTION:Terry Thurston of Ohio Corporate Photography will be providing Professional Head Shots to ANY CHAMBER MEMBER/Associate/Employee for only $99. Various colored backgrounds will be available\, and you will receive 5 head shots! \n\n\n\nFollow this link to register for the event.\n\n http://Ohiocorporatephotographer.com/knoxchamber\n\n\n\n\n\nCash\, Check\, and Credit Card is accepted.
X-ALT-DESC;FMTTYPE=text/html:Terry Thurston of Ohio Corporate Photography will be providing Professional Head Shots to ANY CHAMBER MEMBER/Associate/Employee for only $99. Various colored backgrounds will be available\, and you will receive 5 head shots!&nbsp\;<br />\n<br />\nFollow this link to register for the event.<br />\n&nbsp\;<span style="color:#333333\;"><span style="font-family:helveticaneue\;"><a href="http://Ohiocorporatephotographer.com/knoxchamber">http://Ohiocorporatephotographer.com/knoxchamber</a></span></span><br />\n<br />\n<br />\nCash\, Check\, and Credit Card is accepted.&nbsp\;
LOCATION:Chamber of Commerce Conference Room\, 501 South Main Street\, Mount Vernon
UID:e.2893.4417
SEQUENCE:3
DTSTAMP:20260421T071246Z
URL:http://knoxchamber.smartcms.site/events/details/99-professional-head-shots-ohio-corporate-photographer-4417
END:VEVENT

END:VCALENDAR
