BEGIN:VCALENDAR
VERSION:2.0
PRODID:-//ChamberMaster//Event Calendar 2.0//EN
METHOD:PUBLISH
X-PUBLISHED-TTL:P3D
REFRESH-INTERVAL:P3D
CALSCALE:GREGORIAN
BEGIN:VEVENT
DTSTART:20210911T190000Z
DTEND:20210911T230000Z
X-MICROSOFT-CDO-ALLDAYEVENT:FALSE
SUMMARY:9-11 Never Forget...20 Years Later
DESCRIPTION:The City of Mount Vernon together with Mount Vernon Nazarene University will be hosting a free community memorial event sponsored by Elite Preparedness\, LLC. This event will be held in Ariel Arena with special guest speaker Chris Edwards. Chris is a 9/11 survivor and retired New York Firefighter. He will share with us the events as they unfolded on that tragic day. We have many special things prepared for this day and encourage you all to attend.
X-ALT-DESC;FMTTYPE=text/html:<span style="color: rgb(5\, 5\, 5)\; font-family: &quot\;Segoe UI Historic&quot\;\, &quot\;Segoe UI&quot\;\, Helvetica\, Arial\, sans-serif\; font-size: 15px\;">The City of Mount Vernon together with Mount Vernon Nazarene University will be hosting a free community memorial event sponsored by Elite Preparedness\, LLC. This event will be held in Ariel Arena with special guest speaker Chris Edwards. Chris is a 9/11 survivor and retired New York Firefighter. He will share with us the events as they unfolded on that tragic day. We have many special things prepared for this day and encourage you all to attend.</span>
LOCATION:Ariel Arena on MVNU Campus
UID:e.2893.5021
SEQUENCE:3
DTSTAMP:20260419T144352Z
URL:http://knoxchamber.smartcms.site/events/details/9-11-never-forget-20-years-later-5021
END:VEVENT

END:VCALENDAR
