BEGIN:VCALENDAR
VERSION:2.0
PRODID:-//ChamberMaster//Event Calendar 2.0//EN
METHOD:PUBLISH
X-PUBLISHED-TTL:P3D
REFRESH-INTERVAL:P3D
CALSCALE:GREGORIAN
BEGIN:VEVENT
DTSTART:20180915T130000Z
DTEND:20180915T210000Z
X-MICROSOFT-CDO-ALLDAYEVENT:FALSE
SUMMARY:8th Annual Suicide Prevention Coalition Inspire Hope-Save A Life 2018 Walk/Run
DESCRIPTION:8th ANNUAL SUICIDE PREVENTION COALITION\n\n"INSPIRE HOPE SAVE A LIFE"\n\n2018 WALK/RUN\n\nSign up to enter 5-K   or 10-K RUN or 5-K WALK\n\nPick up registration forms at many local businesses and the Knox County Chamber of Commerce
X-ALT-DESC;FMTTYPE=text/html:8th ANNUAL SUICIDE PREVENTION COALITION<br />\n&ldquo\;INSPIRE HOPE&mdash\;SAVE A LIFE&rdquo\;<br />\n2018 WALK/RUN<br />\nSign up to enter&nbsp\;5-K &ndash\; or 10-K RUN&nbsp\;or 5-K WALK<br />\nPick up registration forms at many local businesses and the Knox County Chamber of Commerce<br />\n<br />\n&nbsp\;
LOCATION:Kokosing Gap Trail\, Gambier Railroad Station\, Gambier\, OH
UID:e.2893.3748
SEQUENCE:3
DTSTAMP:20260422T024122Z
URL:http://knoxchamber.smartcms.site/events/details/8th-annual-suicide-prevention-coalition-inspire-hope-save-a-life-2018-walk-run-3748
END:VEVENT

END:VCALENDAR
