BEGIN:VCALENDAR
VERSION:2.0
PRODID:-//ChamberMaster//Event Calendar 2.0//EN
METHOD:PUBLISH
X-PUBLISHED-TTL:P3D
REFRESH-INTERVAL:P3D
CALSCALE:GREGORIAN
BEGIN:VEVENT
DTSTART:20210608T123000Z
DTEND:20210608T153000Z
X-MICROSOFT-CDO-ALLDAYEVENT:FALSE
SUMMARY:6th Annual Junior Golf Camp at Irish Hills Golf Club - Ages 6-11
DESCRIPTION:Ages 6-11. \n\n\n\nMust have set of golf clubs to participate.\n\n\n\nLimited to the first 25 spots. Camp includes 3 days of instruction and a tournament held on Friday\, followed by a picnic. \n\n\n\nTo sign up\, please visit www.irishhillsgolfclub.com
X-ALT-DESC;FMTTYPE=text/html:Ages 6-11.&nbsp\;<br />\n<br />\nMust have set of golf clubs to participate.<br />\n<br />\nLimited to the first 25 spots. Camp includes 3 days of instruction and a tournament held on Friday\, followed by a picnic.&nbsp\;<br />\n<br />\nTo sign up\, please visit www.irishhillsgolfclub.com<br />\n&nbsp\;
LOCATION:Irish Hills Golf Club
UID:e.2893.4885
SEQUENCE:3
DTSTAMP:20260419T211851Z
URL:http://knoxchamber.smartcms.site/events/details/6th-annual-junior-golf-camp-at-irish-hills-golf-club-ages-6-11-4885
END:VEVENT

END:VCALENDAR
