BEGIN:VCALENDAR
VERSION:2.0
PRODID:-//ChamberMaster//Event Calendar 2.0//EN
METHOD:PUBLISH
X-PUBLISHED-TTL:P3D
REFRESH-INTERVAL:P3D
CALSCALE:GREGORIAN
BEGIN:VEVENT
DTSTART:20171109T223000Z
DTEND:20171110T010000Z
X-MICROSOFT-CDO-ALLDAYEVENT:FALSE
SUMMARY:68th Anniversary Celebration - NAMI - Knox Licking Ohio
DESCRIPTION:
X-ALT-DESC;FMTTYPE=text/html:
LOCATION:
UID:e.2893.2524
SEQUENCE:3
DTSTAMP:20260422T193530Z
URL:http://knoxchamber.smartcms.site/events/details/68th-anniversary-celebration-nami-knox-licking-ohio-2524
END:VEVENT

END:VCALENDAR
