BEGIN:VCALENDAR
VERSION:2.0
PRODID:-//ChamberMaster//Event Calendar 2.0//EN
METHOD:PUBLISH
X-PUBLISHED-TTL:P3D
REFRESH-INTERVAL:P3D
CALSCALE:GREGORIAN
BEGIN:VEVENT
DTSTART:20180808T200000Z
DTEND:20180808T223000Z
X-MICROSOFT-CDO-ALLDAYEVENT:FALSE
SUMMARY:6 Things You Should Know About Your Healthcare After 60
DESCRIPTION:Kindred Healthcare and Knox Community Hospital will host this healthcare event.\n\n	Dr. Mark Buddie\, American Health Network\;\n	Kindred Healthcare\, Homecare and Hospice\;\n	Knox Community Hospital\, Transitional and Chronic Care Management and Palliative Care\n\n\n\nFree community education related to your healthcare.
X-ALT-DESC;FMTTYPE=text/html:<strong>Kindred Healthcare</strong> and <strong>Knox Community Hospital</strong> will host this healthcare event.\n<ol>\n	<li>Dr. Mark Buddie\, American Health Network\;</li>\n	<li>Kindred Healthcare\, Homecare and Hospice\;</li>\n	<li>Knox Community Hospital\, Transitional and Chronic Care Management and Palliative Care</li>\n</ol>\n<br />\n<strong>Free community education related to your healthcare.</strong>
LOCATION:Gallagher Center\, 1451 Gambier Road\, Mount Vernon.
UID:e.2893.3756
SEQUENCE:3
DTSTAMP:20260422T061446Z
URL:http://knoxchamber.smartcms.site/events/details/6-things-you-should-know-about-your-healthcare-after-60-3756
END:VEVENT

END:VCALENDAR
