BEGIN:VCALENDAR
VERSION:2.0
PRODID:-//ChamberMaster//Event Calendar 2.0//EN
METHOD:PUBLISH
X-PUBLISHED-TTL:P3D
REFRESH-INTERVAL:P3D
CALSCALE:GREGORIAN
BEGIN:VEVENT
DTSTART:20180804T130000Z
DTEND:20180804T160000Z
X-MICROSOFT-CDO-ALLDAYEVENT:FALSE
SUMMARY:5K-9 Run/walk
DESCRIPTION:Starbucks and Kroger are doing a fundraiser for the \n\nK-9 program. This is a FUN Run/Walk! Wear your best BLUE and join us for our 5K to raise money towards the purchase of a bite suit for the Mount Vernon Police K-9's. Registration is $25\, hurry registration ends August 1! Hope to see you all there!
X-ALT-DESC;FMTTYPE=text/html:<div>&nbsp\;</div>\n\n<div><span style="color: rgb(75\, 79\, 86)\; font-family: Helvetica\, Arial\, sans-serif\; font-size: 14px\; background-color: rgb(255\, 255\, 255)\;">Starbucks and Kroger are doing a fundraiser for the&nbsp\;</span></div>\n\n<div><span style="color: rgb(75\, 79\, 86)\; font-family: Helvetica\, Arial\, sans-serif\; font-size: 14px\; background-color: rgb(255\, 255\, 255)\;">K-9 program. This is a FUN Run/Walk! Wear your best BLUE and join us for our 5K to</span><span class="text_exposed_show" style="display: inline\; color: rgb(75\, 79\, 86)\; font-family: Helvetica\, Arial\, sans-serif\; font-size: 14px\; background-color: rgb(255\, 255\, 255)\;">&nbsp\;raise money towards the purchase of a bite suit for the Mount Vernon Police K-9&#39\;s. Registration is $25\, hurry registration ends August 1! Hope to see you all there!</span></div>\n
LOCATION:Ariel- Park Foundation Park
UID:e.2893.3767
SEQUENCE:3
DTSTAMP:20260422T055920Z
URL:http://knoxchamber.smartcms.site/events/details/5k-9-run-walk-3767
END:VEVENT

END:VCALENDAR
