BEGIN:VCALENDAR
VERSION:2.0
PRODID:-//ChamberMaster//Event Calendar 2.0//EN
METHOD:PUBLISH
X-PUBLISHED-TTL:P3D
REFRESH-INTERVAL:P3D
CALSCALE:GREGORIAN
BEGIN:VEVENT
DTSTART:20181101T210000Z
DTEND:20181102T010000Z
X-MICROSOFT-CDO-ALLDAYEVENT:FALSE
SUMMARY:4th Quarter Networking Event and Christmas Parade Auction
DESCRIPTION:Main Street Mount Vernon invites the public to its 4th Quarter Happy Hour Networking event. The 2018 Christmas Parade Auction will follow the event at 6:00pm.
X-ALT-DESC;FMTTYPE=text/html:<a _mce_href="https://mainstreetmountvernon.com/" _mce_style="color: #800000\; text-decoration: underline\;" href="https://mainstreetmountvernon.com/" linktype="1" style="color: rgb(128\, 0\, 0)\; text-decoration: underline\;" target="_blank" track="on"><strong>Main Street Mount Vernon</strong></a> invites the public to its 4th Quarter Happy Hour Networking event. The 2018 Christmas Parade Auction will follow the event at 6:00pm.
LOCATION:Amato's Woodfired Pizza 668 North Sandusky Street in Mount Vernon.
UID:e.2893.3838
SEQUENCE:3
DTSTAMP:20260421T232038Z
URL:http://knoxchamber.smartcms.site/events/details/4th-quarter-networking-event-and-christmas-parade-auction-3838
END:VEVENT

END:VCALENDAR
