BEGIN:VCALENDAR
VERSION:2.0
PRODID:-//ChamberMaster//Event Calendar 2.0//EN
METHOD:PUBLISH
X-PUBLISHED-TTL:P3D
REFRESH-INTERVAL:P3D
CALSCALE:GREGORIAN
BEGIN:VEVENT
DTSTART:20190704T233000Z
DTEND:20190705T020000Z
X-MICROSOFT-CDO-ALLDAYEVENT:FALSE
SUMMARY:4th of July Celebration
DESCRIPTION:Enjoy a day full of music for free!  Starting at 3pm with the Mount Vernon Community Band\, followed by the Central Ohio Brass Band at 5pm\, and ending with Tusk: Fleetwood Mac Tribute at 7:30pm.  Fireworks will follow the bands at 10pm.  Food trucks will be on site in early afternoon as well as beverage vendors.  No outside food or beverages will be allowed inside.  Pets and smoking are also prohibited.
X-ALT-DESC;FMTTYPE=text/html:Enjoy a day full of music for free!&nbsp\; Starting at 3pm with the Mount Vernon Community Band\, followed by the Central Ohio Brass Band at 5pm\, and ending with Tusk: Fleetwood Mac Tribute at 7:30pm.&nbsp\; Fireworks will follow the bands at 10pm.&nbsp\; Food trucks will be on site in early afternoon as well as beverage vendors.&nbsp\; No outside food or beverages will be allowed inside.&nbsp\; Pets and smoking are also prohibited.&nbsp\;
LOCATION:10 Pittsburgh Avenue\, Mount Vernon
UID:e.2893.4334
SEQUENCE:3
DTSTAMP:20260421T101838Z
URL:http://knoxchamber.smartcms.site/events/details/4th-of-july-celebration-4334
END:VEVENT

END:VCALENDAR
