BEGIN:VCALENDAR
VERSION:2.0
PRODID:-//ChamberMaster//Event Calendar 2.0//EN
METHOD:PUBLISH
X-PUBLISHED-TTL:P3D
REFRESH-INTERVAL:P3D
CALSCALE:GREGORIAN
BEGIN:VEVENT
DTSTART:20180624T190000Z
DTEND:20180624T220000Z
X-MICROSOFT-CDO-ALLDAYEVENT:FALSE
SUMMARY:4-H and Friends Fun Day
DESCRIPTION:Knox County Farm Bureau is proud to host "4-H and Friends Fun Day" to support the construction of the new 4-H Center adjacent to the Knox County Fairgrounds. The 4-H Center will serve as a community building with space for large and small meetings and can accommodate multiple meetings at the same time. Anyone interested in being a part of this event can contact Knox County Farm Bureau at 740-452-2356
X-ALT-DESC;FMTTYPE=text/html:Knox County Farm Bureau is proud to host &quot\;4-H and Friends Fun Day&quot\; to support the construction of the new 4-H Center adjacent to the Knox County Fairgrounds. The 4-H Center will serve as a community building with space for large and small meetings and can accommodate multiple meetings at the same time. Anyone interested in being a part of this event can contact Knox County Farm Bureau at 740-452-2356
LOCATION:Knox County Fairgrounds
UID:e.2893.3628
SEQUENCE:3
DTSTAMP:20260422T074631Z
URL:http://knoxchamber.smartcms.site/events/details/4-h-and-friends-fun-day-3628
END:VEVENT

END:VCALENDAR
