BEGIN:VCALENDAR
VERSION:2.0
PRODID:-//ChamberMaster//Event Calendar 2.0//EN
METHOD:PUBLISH
X-PUBLISHED-TTL:P3D
REFRESH-INTERVAL:P3D
CALSCALE:GREGORIAN
BEGIN:VEVENT
DTSTART:20170625T170000Z
DTEND:20170625T210000Z
X-MICROSOFT-CDO-ALLDAYEVENT:FALSE
SUMMARY:3rd Annual Home Tour
DESCRIPTION:The Winter Sanctuary\, the homeless shelters in Mount Vernon\, will hold its third annual home tour 1-5 p.m. June 25\, with entry into five homes\, none on any of the previous tours. Tickets will be $10 each. The event will raise funds for shelter operations.\n\n \n\nThe Winter Sanctuary\, the homeless shelters in Mount Vernon\, will hold Donkey-doo on Aug. 10\, 2-7 p.m.\, with more chances for ticket purchasers to win than at last year's inaugural event. As last year\, the shelter will sell tickets corresponding to squares marked out on a field at 11660 Upper Gilchrist Road in Mount Vernon\, near Knox County Head Start and the Knox County Health Department. When donkeys released into the field make droppings in a square\, the holder of a ticket for that square wins a prize. Tickets are $5 each. The number of participating donkeys will increase\, thus increasing ticket purchasers' chances as well.
X-ALT-DESC;FMTTYPE=text/html:<span style="font-size:14.0pt\;">The Winter Sanctuary\, the homeless shelters in Mount Vernon\, will hold its&nbsp\;third annual home tour 1-5 p.m. June 25\, with entry into five homes\, none on any of the previous tours. Tickets will be $10 each. The event will raise funds for shelter operations.</span><br />\n&nbsp\;<br />\n<span style="font-size:14.0pt\;">The Winter Sanctuary\, the homeless shelters in Mount Vernon\,&nbsp\;will hold Donkey-doo&nbsp\;on Aug. 10\, 2-7 p.m.\, with more chances for ticket purchasers to win than at last year&rsquo\;s inaugural event. As last year\, the shelter will sell tickets corresponding to squares marked out on a field at 11660 Upper Gilchrist Road in Mount Vernon\, near Knox County Head Start and the Knox County Health Department. When donkeys released into the field make droppings in a square\, the holder of a ticket for that square wins a prize. Tickets are $5 each. The number of participating donkeys will increase\, thus increasing ticket purchasers&rsquo\; chances as well.</span>
LOCATION:
UID:e.2893.1386
SEQUENCE:3
DTSTAMP:20260423T063108Z
URL:http://knoxchamber.smartcms.site/events/details/3rd-annual-home-tour-1386
END:VEVENT

END:VCALENDAR
