BEGIN:VCALENDAR
VERSION:2.0
PRODID:-//ChamberMaster//Event Calendar 2.0//EN
METHOD:PUBLISH
X-PUBLISHED-TTL:P3D
REFRESH-INTERVAL:P3D
CALSCALE:GREGORIAN
BEGIN:VEVENT
DTSTART:20210505T230000Z
DTEND:20210506T000000Z
X-MICROSOFT-CDO-ALLDAYEVENT:FALSE
SUMMARY:2021 Launch Video for the Mount Vernon Music & Arts Festival
DESCRIPTION:MVMAF co-directors Joseph Bell and Trina Trainor visit with Marcy Rinehart and give some initial details about the event\, scheduled for August 13-15\, 2021 in downtown Mount Vernon\, OH.
X-ALT-DESC;FMTTYPE=text/html:<span style="color: rgb(5\, 5\, 5)\; font-family: &quot\;Segoe UI Historic&quot\;\, &quot\;Segoe UI&quot\;\, Helvetica\, Arial\, sans-serif\; font-size: 15px\;">MVMAF co-directors Joseph Bell and Trina Trainor visit with Marcy Rinehart and give some initial details about the event\, scheduled for August 13-15\, 2021 in downtown Mount Vernon\, OH.</span>
LOCATION:Virtual https://www.facebook.com/events/792356134818021/?active_tab=discussion
UID:e.2893.4882
SEQUENCE:3
DTSTAMP:20260419T211847Z
URL:http://knoxchamber.smartcms.site/events/details/2021-launch-video-for-the-mount-vernon-music-arts-festival-4882
END:VEVENT

END:VCALENDAR
