BEGIN:VCALENDAR
VERSION:2.0
PRODID:-//ChamberMaster//Event Calendar 2.0//EN
METHOD:PUBLISH
X-PUBLISHED-TTL:P3D
REFRESH-INTERVAL:P3D
CALSCALE:GREGORIAN
BEGIN:VEVENT
DTSTART:20210904T193000Z
DTEND:20210904T230000Z
X-MICROSOFT-CDO-ALLDAYEVENT:FALSE
SUMMARY:2021 Color for a Cause 5K/1M Run/Walk
DESCRIPTION:Join the Teen Advisory Council of Knox County (TAC) for the Color for a Cause 5k and 1-Mile Run/Walk to benefit TAC. This event is all about fun\, family\, friends\, and healthy lifestyles! Join the TAC for a little exercise and lots of colorful FUN! Your evening will consist of a 3.1 mile run/walk or a 1-mile run/walk through Ariel-Foundation Park as colorful\, washable powder flies. Cross the finish line colored like a rainbow!\n\n\n\nAll pre-registrants will receive a white t-shirt\, race number\, finisher medal\, post-race refreshments\, and most importantly\, Color Run swag.\n\n\n\nCOLOR POWDER   This is a color run\, wear white! You will get covered in washable powder paint while you run/walk.\n\n\n\nYOUTH   Children under 12 must be accompanied by a participating adult.\n\n\n\nSTROLLERS   Strollers are allowed on the race course\, we just ask that you line up near the end for your safety and the safety of other participants.\n\n\n\nPOST RACE-FOOD/DRINK   After you cross the finish line\, TAC will provide you will free water\, fruit\, and post-race snacks so you may replenish and refresh.\n\n\n\nWEATHER   This event will happen rain or shine. However\, if severe weather occurs\, the event will be delayed accordingly. Should weather cause the event to cancel\, refunds will not be issued.\n\n\n\nPlease visit racepenguin.com/events/color-for-a-cause/ for updates.\n\n\n\nSPONSORSHIP INFORMATION
X-ALT-DESC;FMTTYPE=text/html:<font color="#3f3f3f" font-size:="" gentium="" style="font-family: ">Join the Teen Advisory Council of Knox County (TAC) for the Color for a Cause 5k and 1-Mile Run/Walk to benefit TAC. This event is all about fun\, family\, friends\, and healthy lifestyles! Join the TAC for a little exercise and lots of colorful FUN! Your evening will consist of a 3.1 mile run/walk or a 1-mile run/walk through Ariel-Foundation Park as colorful\, washable powder flies. Cross the finish line colored like a rainbow!</font><br font-size:="" gentium="" style="color: rgb(142\, 142\, 142)\; font-family: " />\n<br font-size:="" gentium="" style="color: rgb(142\, 142\, 142)\; font-family: " />\n<font color="#3f3f3f" font-size:="" gentium="" style="font-family: ">All pre-registrants will receive a white t-shirt\, race number\, finisher medal\, post-race refreshments\, and most importantly\, Color Run swag.</font><br font-size:="" gentium="" style="color: rgb(142\, 142\, 142)\; font-family: " />\n<br font-size:="" gentium="" style="color: rgb(142\, 142\, 142)\; font-family: " />\n<font color="#3f3f3f" font-size:="" gentium="" style="font-family: ">COLOR POWDER &ndash\; This is a color run\, wear white! You will get covered in washable powder paint while you run/walk.</font><br font-size:="" gentium="" style="color: rgb(142\, 142\, 142)\; font-family: " />\n<br font-size:="" gentium="" style="color: rgb(142\, 142\, 142)\; font-family: " />\n<font color="#3f3f3f" font-size:="" gentium="" style="font-family: ">YOUTH &ndash\; Children under 12 must be accompanied by a participating adult.</font><br font-size:="" gentium="" style="color: rgb(142\, 142\, 142)\; font-family: " />\n<br font-size:="" gentium="" style="color: rgb(142\, 142\, 142)\; font-family: " />\n<font color="#3f3f3f" font-size:="" gentium="" style="font-family: ">STROLLERS &ndash\; Strollers are allowed on the race course\, we just ask that you line up near the end for your safety and the safety of other participants.</font><br font-size:="" gentium="" style="color: rgb(142\, 142\, 142)\; font-family: " />\n<br font-size:="" gentium="" style="color: rgb(142\, 142\, 142)\; font-family: " />\n<font color="#3f3f3f" font-size:="" gentium="" style="font-family: ">POST RACE-FOOD/DRINK &ndash\; After you cross the finish line\, TAC will provide you will free water\, fruit\, and post-race snacks so you may replenish and refresh.</font><br font-size:="" gentium="" style="color: rgb(142\, 142\, 142)\; font-family: " />\n<br font-size:="" gentium="" style="color: rgb(142\, 142\, 142)\; font-family: " />\n<font color="#3f3f3f" font-size:="" gentium="" style="font-family: ">WEATHER&nbsp\;&ndash\; This event will happen rain or shine. However\, if severe weather occurs\, the event will be delayed accordingly. Should weather cause the event to cancel\, refunds will not be issued.</font><br font-size:="" gentium="" style="color: rgb(142\, 142\, 142)\; font-family: " />\n<br font-size:="" gentium="" style="color: rgb(142\, 142\, 142)\; font-family: " />\n<font color="#2a2a2a" font-size:="" gentium="" style="font-family: ">Please visit&nbsp\;<a href="https://racepenguin.com/events/color-for-a-cause/" style="text-decoration-line: none\; color: rgb(91\, 114\, 220)\; transition: all 0.2s ease-in-out 0s\;">racepenguin.com/events/color-for-a-cause/</a>&nbsp\;for updates.<br />\n<br />\n<a href="https://chambermaster.blob.core.windows.net/userfiles/UserFiles/chambers/2893/File/2021ColorRunSponsorship1.png">SPONSORSHIP INFORMATION</a></font>
LOCATION:Ariel Foundation Park
UID:e.2893.4981
SEQUENCE:3
DTSTAMP:20260419T144726Z
URL:http://knoxchamber.smartcms.site/events/details/2021-color-for-a-cause-5k-1m-run-walk-4981
END:VEVENT

END:VCALENDAR
