BEGIN:VCALENDAR
VERSION:2.0
PRODID:-//ChamberMaster//Event Calendar 2.0//EN
METHOD:PUBLISH
X-PUBLISHED-TTL:P3D
REFRESH-INTERVAL:P3D
CALSCALE:GREGORIAN
BEGIN:VEVENT
DTSTART:20190607T160000Z
DTEND:20190607T200000Z
X-MICROSOFT-CDO-ALLDAYEVENT:FALSE
SUMMARY:2019 Regional Economic Forum
DESCRIPTION:In this informative and interactive session\, you'll hear from Kaz\n\nUnalan\, Director Tax & Business Advisory Services for CBQ\n\nHoldings LLC\, Carl Fernyak\, Founder of RichlandSource.com\,\n\n and J.P. Nauseef\,\n\nPresident and Chief Investment Officer from JobsOhio.  You will also have the opportunity to hear from Knox County's own Alex Wright\, COO of Ariel Corporation. \n\nOur notable speakers will share their outlook on the business\n\nclimate\, manufacturing\, energy\, workforce development\, and\n\nmulti-generational businesses. They will provide insights into\n\nliquidity planning and goals\, the mindset for growth that will\n\nlead to success and the formulation and execution of an\n\neventual exit strategy. We'll follow our speakers with a panel\n\ndiscussion / Q&A session.\n\nWe hope you will join us for these engaging conversations.\n\n\n\nSpace is limited so register today by calling (419) 522-3211 or emailing lduckworth@richlandareachamber.com
X-ALT-DESC;FMTTYPE=text/html:In this informative and interactive session\, you&rsquo\;ll hear from Kaz<br />\nUnalan\, Director Tax &amp\; Business Advisory Services for CBQ<br />\nHoldings LLC\, Carl Fernyak\, Founder of RichlandSource.com\,<br />\n&nbsp\;and J.P. Nauseef\,<br />\nPresident and Chief Investment Officer from JobsOhio.&nbsp\; You will also have the opportunity to hear from Knox County&#39\;s own Alex Wright\, COO of Ariel Corporation.&nbsp\;<br />\nOur notable speakers will share their outlook on the business<br />\nclimate\, manufacturing\, energy\, workforce development\, and<br />\nmulti-generational businesses. They will provide insights into<br />\nliquidity planning and goals\, the mindset for growth that will<br />\nlead to success and the formulation and execution of an<br />\neventual exit strategy. We&rsquo\;ll follow our speakers with a panel<br />\ndiscussion / Q&amp\;A session.<br />\nWe hope you will join us for these engaging conversations.<br />\n<br />\nSpace is limited so register today by calling (419) 522-3211 or emailing <a href="mailto:lduckworth@richlandareachamber.com">lduckworth@richlandareachamber.com</a>
LOCATION:Snow Trails\, 3100 Possum Run Road\, Mansfield
UID:e.2893.4301
SEQUENCE:3
DTSTAMP:20260421T103654Z
URL:http://knoxchamber.smartcms.site/events/details/2019-regional-economic-forum-4301
END:VEVENT

END:VCALENDAR
