BEGIN:VCALENDAR
VERSION:2.0
PRODID:-//ChamberMaster//Event Calendar 2.0//EN
METHOD:PUBLISH
X-PUBLISHED-TTL:P3D
REFRESH-INTERVAL:P3D
CALSCALE:GREGORIAN
BEGIN:VEVENT
DTSTART:20170426T120000Z
DTEND:20170426T210000Z
X-MICROSOFT-CDO-ALLDAYEVENT:FALSE
SUMMARY:2017 Ohio Business Matchmaker
DESCRIPTION:If you're a small business looking for state and federal contract opportunities\, this weekend is your last chance to register for the 2017 Ohio Business Matchmaker\, the largest small business to government contracting event in the state. Registration is now open at www.ohiobusinessmatchmaking.org. \n\nThe event will be held on Wednesday\, April 26\, from 8 a.m.   5 p.m.\, at Wright State University's Ervin J. Nutter Center\, 3640 Colonel Glenn Highway\, Dayton\, Ohio 45324.\n\n "The U.S. government is the world's single largest purchaser of goods and services and in FY16\, it awarded more than 4\,000 contracts worth nearly $2 billion to Ohio small businesses\," said Ricardo Garcia\, district director of the SBA's Columbus district office. "By connecting small businesses to government contracting opportunities\, we strive to contribute to their growth\, which in turn will contribute to healthy local communities and economies with job creation."\n\nThe Ohio Development Services Agency (ODSA) and the U.S. Small Business Administration (SBA) partner on this event to help small businesses "match" their quality products and services with available government contracts. Participating buyers represent city\, county\, state and federal agencies\, as well as large contractors with combined purchasing budgets representing billions of dollars.
X-ALT-DESC;FMTTYPE=text/html:<span style="color:#0A1A1F\;"><span style="font-family:arial\,sans-serif\;"><span style="font-size:10.5pt\;">If you&rsquo\;re a small business looking for state and federal contract opportunities\, this weekend is your last chance to register for the <a href="http://links.govdelivery.com:80/track?type=click&amp\;enid=ZWFzPTEmbWFpbGluZ2lkPTIwMTcwNDIxLjcyNTQ5MzQxJm1lc3NhZ2VpZD1NREItUFJELUJVTC0yMDE3MDQyMS43MjU0OTM0MSZkYXRhYmFzZWlkPTEwMDEmc2VyaWFsPTE3MTM0MTA4JmVtYWlsaWQ9cHJvZ3JhbXNAa25veGNoYW1iZXIuY29tJnVzZXJpZD1wcm9ncmFtc0Brbm94Y2hhbWJlci5jb20mZmw9JmV4dHJhPU11bHRpdmFyaWF0ZUlkPSYmJg==&amp\;&amp\;&amp\;102&amp\;&amp\;&amp\;http://www.ohiobusinessmatchmaking.org/?utm_medium=email&amp\;utm_source=govdelivery">2017 Ohio Business Matchmaker</a>\, the largest small business to government contracting event in the state. Registration is now open at&nbsp\;<a href="http://links.govdelivery.com:80/track?type=click&amp\;enid=ZWFzPTEmbWFpbGluZ2lkPTIwMTcwNDIxLjcyNTQ5MzQxJm1lc3NhZ2VpZD1NREItUFJELUJVTC0yMDE3MDQyMS43MjU0OTM0MSZkYXRhYmFzZWlkPTEwMDEmc2VyaWFsPTE3MTM0MTA4JmVtYWlsaWQ9cHJvZ3JhbXNAa25veGNoYW1iZXIuY29tJnVzZXJpZD1wcm9ncmFtc0Brbm94Y2hhbWJlci5jb20mZmw9JmV4dHJhPU11bHRpdmFyaWF0ZUlkPSYmJg==&amp\;&amp\;&amp\;103&amp\;&amp\;&amp\;http://www.ohiobusinessmatchmaking.org/?utm_medium=email&amp\;utm_source=govdelivery">www.ohiobusinessmatchmaking.org</a>.&nbsp\;</span></span></span><br />\n<span style="color:#0A1A1F\;"><span style="font-family:arial\,sans-serif\;"><span style="font-size:10.5pt\;">The event will be held on Wednesday\, April 26\, from 8 a.m. &ndash\; 5 p.m.\, at Wright State University&rsquo\;s Ervin J. Nutter Center\, 3640 Colonel Glenn Highway\, Dayton\, Ohio 45324.</span></span></span><br />\n<span style="color:#0A1A1F\;"><span style="font-family:arial\,sans-serif\;"><span style="font-size:10.5pt\;">&nbsp\;&ldquo\;The U.S. government is the world&rsquo\;s single largest purchaser of goods and services and in FY16\, it awarded more than 4\,000 contracts worth nearly $2 billion to Ohio small businesses\,&rdquo\; said Ricardo Garcia\, district director of the SBA&rsquo\;s Columbus district office. &ldquo\;By connecting small businesses to government contracting opportunities\, we strive to contribute to their growth\, which in turn will contribute to healthy local communities and economies with job creation.&rdquo\;</span></span></span><br />\n<span style="color:#0A1A1F\;"><span style="font-family:arial\,sans-serif\;"><span style="font-size:10.5pt\;">The Ohio Development Services Agency (ODSA) and the U.S. Small Business Administration (SBA) partner on this event to help small businesses &ldquo\;match&rdquo\; their quality products and services with available government contracts.&nbsp\;Participating buyers represent city\, county\, state and federal agencies\, as well as large contractors with combined purchasing budgets representing billions of dollars.&nbsp\;</span></span></span>
LOCATION:
UID:e.2893.1378
SEQUENCE:3
DTSTAMP:20260423T093615Z
URL:http://knoxchamber.smartcms.site/events/details/2017-ohio-business-matchmaker-1378
END:VEVENT

END:VCALENDAR
