BEGIN:VCALENDAR
VERSION:2.0
PRODID:-//ChamberMaster//Event Calendar 2.0//EN
METHOD:PUBLISH
X-PUBLISHED-TTL:P3D
REFRESH-INTERVAL:P3D
CALSCALE:GREGORIAN
BEGIN:VEVENT
DTSTART:20170106T223000Z
DTEND:20170107T030000Z
X-MICROSOFT-CDO-ALLDAYEVENT:FALSE
SUMMARY:2016 Annual Dinner & Awards Ceremony
DESCRIPTION:Every January the Chamber of Commerce hosts the Annual Awards Dinner\, an exciting evening for everyone in the business community. Annual Dinner highlights the accomplishments of the Chamber and its members.  Over 400 people attend this featured event.
X-ALT-DESC;FMTTYPE=text/html:<p style="margin: 0px 0px 9px\; padding: 0px\; font-family: Verdana\, Arial\, Helvetica\, sans-serif\; color: rgb(51\, 51\, 51)\; font-size: 14px\; line-height: 22px\;">Every January the Chamber of Commerce hosts the Annual Awards Dinner\, an exciting evening for everyone in the business community. Annual Dinner highlights the accomplishments of the Chamber and its members. &nbsp\;Over 400 people attend this featured event.</p>\n\n<p style="margin: 0px 0px 9px\; padding: 0px\; font-family: Verdana\, Arial\, Helvetica\, sans-serif\; color: rgb(51\, 51\, 51)\; font-size: 14px\; line-height: 22px\;">&nbsp\;</p>\n
LOCATION:Kenyon Athletic Center 221 Duff Street Gambier
UID:e.2893.943
SEQUENCE:3
DTSTAMP:20260423T143008Z
URL:http://knoxchamber.smartcms.site/events/details/2016-annual-dinner-awards-ceremony-943
END:VEVENT

END:VCALENDAR
