BEGIN:VCALENDAR
VERSION:2.0
PRODID:-//ChamberMaster//Event Calendar 2.0//EN
METHOD:PUBLISH
X-PUBLISHED-TTL:P3D
REFRESH-INTERVAL:P3D
CALSCALE:GREGORIAN
BEGIN:VEVENT
DTSTART:20180713T160000Z
DTEND:20180714T003000Z
X-MICROSOFT-CDO-ALLDAYEVENT:FALSE
SUMMARY:19th Annual Golf Classic
DESCRIPTION:The Foundation for Knox Community Hospital invites you to the 19 th Annual Charity Golf Classic.Come spend the day with us at our area's premier golf course\, the Mount Vernon Country Club. After playing 18 holes at this private\, world-class club\, enjoy a superb dinner\, complete with an awards ceremony and raffle drawings.
X-ALT-DESC;FMTTYPE=text/html:<p class="rtecenter" style="margin: 0px 0px 9px\; padding: 0px\; border: 0px\; font-variant-numeric: inherit\; font-variant-east-asian: inherit\; font-stretch: inherit\; line-height: 1.1\; font-family: Dosis\, sans-serif\; vertical-align: baseline\; text-align: center\; color: rgb(98\, 99\, 102)\;"><span style="margin: 0px\; padding: 0px\; border: 0px\; font-style: inherit\; font-variant: inherit\; font-weight: 600\; font-stretch: inherit\; font-size: inherit\; line-height: inherit\; font-family: inherit\; vertical-align: baseline\;">The Foundation for Knox Community Hospital invites you to the 19&nbsp\;<span style="margin: 0px\; padding: 0px\; border: 0px\; font-style: inherit\; font-variant: inherit\; font-weight: inherit\; font-stretch: inherit\; font-size: inherit\; line-height: inherit\; font-family: inherit\; vertical-align: baseline\;">th</span>&nbsp\;Annual Charity Golf Classic.</span>Come spend the day with us at our area&rsquo\;s premier golf course\, the Mount Vernon Country Club. After playing 18 holes at this private\, world-class club\, enjoy a superb dinner\, complete with an awards ceremony and raffle drawings.</p>\n
LOCATION:Mount Vernon Country Club
UID:e.2893.3649
SEQUENCE:3
DTSTAMP:20260422T060653Z
URL:http://knoxchamber.smartcms.site/events/details/19th-annual-golf-classic-3649
END:VEVENT

END:VCALENDAR
