BEGIN:VCALENDAR
VERSION:2.0
PRODID:-//ChamberMaster//Event Calendar 2.0//EN
METHOD:PUBLISH
X-PUBLISHED-TTL:P3D
REFRESH-INTERVAL:P3D
CALSCALE:GREGORIAN
BEGIN:VEVENT
DTSTART:20170505T233000Z
DTEND:20170507T180000Z
X-MICROSOFT-CDO-ALLDAYEVENT:FALSE
SUMMARY:"12 Angry Men"
DESCRIPTION:MTVarts Classics Series present "12 Angry Men" under the direction of Ian Fraser Ernsberger. Two evening performances and Sunday matinee. Details and tickets at MTVarts.com
X-ALT-DESC;FMTTYPE=text/html:MTVarts Classics Series present &quot\;12 Angry Men&quot\; under the direction of Ian Fraser Ernsberger. Two evening performances and Sunday matinee. Details and tickets at MTVarts.com
LOCATION:Memorial Theatre
UID:e.2893.1330
SEQUENCE:3
DTSTAMP:20260423T075307Z
URL:http://knoxchamber.smartcms.site/events/details/12-angry-men-1330
END:VEVENT

END:VCALENDAR
